BEGIN:VCALENDAR
VERSION:2.0
PRODID:-//Cocaine Anonymous® World Services - ECPv6.15.20//NONSGML v1.0//EN
CALSCALE:GREGORIAN
METHOD:PUBLISH
X-WR-CALNAME:Cocaine Anonymous® World Services
X-ORIGINAL-URL:https://ca.org
X-WR-CALDESC:Events for Cocaine Anonymous® World Services
REFRESH-INTERVAL;VALUE=DURATION:PT1H
X-Robots-Tag:noindex
X-PUBLISHED-TTL:PT1H
BEGIN:VTIMEZONE
TZID:America/Toronto
BEGIN:DAYLIGHT
TZOFFSETFROM:-0500
TZOFFSETTO:-0400
TZNAME:EDT
DTSTART:20190310T070000
END:DAYLIGHT
BEGIN:STANDARD
TZOFFSETFROM:-0400
TZOFFSETTO:-0500
TZNAME:EST
DTSTART:20191103T060000
END:STANDARD
BEGIN:DAYLIGHT
TZOFFSETFROM:-0500
TZOFFSETTO:-0400
TZNAME:EDT
DTSTART:20200308T070000
END:DAYLIGHT
BEGIN:STANDARD
TZOFFSETFROM:-0400
TZOFFSETTO:-0500
TZNAME:EST
DTSTART:20201101T060000
END:STANDARD
BEGIN:DAYLIGHT
TZOFFSETFROM:-0500
TZOFFSETTO:-0400
TZNAME:EDT
DTSTART:20210314T070000
END:DAYLIGHT
BEGIN:STANDARD
TZOFFSETFROM:-0400
TZOFFSETTO:-0500
TZNAME:EST
DTSTART:20211107T060000
END:STANDARD
END:VTIMEZONE
BEGIN:VTIMEZONE
TZID:America/Winnipeg
BEGIN:DAYLIGHT
TZOFFSETFROM:-0600
TZOFFSETTO:-0500
TZNAME:CDT
DTSTART:20190310T080000
END:DAYLIGHT
BEGIN:STANDARD
TZOFFSETFROM:-0500
TZOFFSETTO:-0600
TZNAME:CST
DTSTART:20191103T070000
END:STANDARD
BEGIN:DAYLIGHT
TZOFFSETFROM:-0600
TZOFFSETTO:-0500
TZNAME:CDT
DTSTART:20200308T080000
END:DAYLIGHT
BEGIN:STANDARD
TZOFFSETFROM:-0500
TZOFFSETTO:-0600
TZNAME:CST
DTSTART:20201101T070000
END:STANDARD
BEGIN:DAYLIGHT
TZOFFSETFROM:-0600
TZOFFSETTO:-0500
TZNAME:CDT
DTSTART:20210314T080000
END:DAYLIGHT
BEGIN:STANDARD
TZOFFSETFROM:-0500
TZOFFSETTO:-0600
TZNAME:CST
DTSTART:20211107T070000
END:STANDARD
END:VTIMEZONE
BEGIN:VEVENT
DTSTART;TZID=America/Toronto:20200822T080000
DTEND;TZID=America/Toronto:20200822T220000
DTSTAMP:20260425T153922
CREATED:20200716T013437Z
LAST-MODIFIED:20200716T013437Z
UID:9237-1598083200-1598133600@ca.org
SUMMARY:Ladies Night Out Presents: IE Backyard Boogie Mini Marathon
DESCRIPTION:
URL:https://ca.org/event/ladies-night-out-presents-ie-backyard-boogie-mini-marathon/
LOCATION:Backyard Boogie Mini Marathon\, 13289 Sunfield Dr.\, Moreno Valley\, CA\, United States
END:VEVENT
BEGIN:VEVENT
DTSTART;TZID=America/Winnipeg:20200816T193000
DTEND;TZID=America/Winnipeg:20200816T193000
DTSTAMP:20260425T153922
CREATED:20200803T021552Z
LAST-MODIFIED:20200803T021607Z
UID:9304-1597606200-1597606200@ca.org
SUMMARY:"Addicts Got Talent"
DESCRIPTION:An Online Evening of Entertainment presented by the Greater MO Area as a fundraiser for the 2021 Midwest Regional Convention \nTickets $7 donation or more. Must purchase ticket in advance on camissouri.org website\nClick on “Make An Area 7th Donation”\nFill in Name\, Phone & Email\nWhere it asks for C.A. Group\, type AGT TICKET\nNo need to mark Checkboxes\nFill in amount of 7th Donation at $7 or more\nYou will be redirected to Paypal to complete your transaction.\nYou will receive an email acknowledgement of your ticket purchase. Zoom codes for the event will be forwarded by email early on the day of the event. \nDon’t miss this lineup of gifted Fellowship members showing off their skills of song\, dance\, comedy and magic!
URL:https://ca.org/event/addicts-got-talent/
CATEGORIES:Area
END:VEVENT
END:VCALENDAR