BEGIN:VCALENDAR
VERSION:2.0
PRODID:-//Cocaine Anonymous® World Services - ECPv6.15.20//NONSGML v1.0//EN
CALSCALE:GREGORIAN
METHOD:PUBLISH
X-WR-CALNAME:Cocaine Anonymous® World Services
X-ORIGINAL-URL:https://ca.org
X-WR-CALDESC:Events for Cocaine Anonymous® World Services
REFRESH-INTERVAL;VALUE=DURATION:PT1H
X-Robots-Tag:noindex
X-PUBLISHED-TTL:PT1H
BEGIN:VTIMEZONE
TZID:America/Toronto
BEGIN:DAYLIGHT
TZOFFSETFROM:-0500
TZOFFSETTO:-0400
TZNAME:EDT
DTSTART:20200308T070000
END:DAYLIGHT
BEGIN:STANDARD
TZOFFSETFROM:-0400
TZOFFSETTO:-0500
TZNAME:EST
DTSTART:20201101T060000
END:STANDARD
BEGIN:DAYLIGHT
TZOFFSETFROM:-0500
TZOFFSETTO:-0400
TZNAME:EDT
DTSTART:20210314T070000
END:DAYLIGHT
BEGIN:STANDARD
TZOFFSETFROM:-0400
TZOFFSETTO:-0500
TZNAME:EST
DTSTART:20211107T060000
END:STANDARD
BEGIN:DAYLIGHT
TZOFFSETFROM:-0500
TZOFFSETTO:-0400
TZNAME:EDT
DTSTART:20220313T070000
END:DAYLIGHT
BEGIN:STANDARD
TZOFFSETFROM:-0400
TZOFFSETTO:-0500
TZNAME:EST
DTSTART:20221106T060000
END:STANDARD
END:VTIMEZONE
BEGIN:VEVENT
DTSTART;VALUE=DATE:20210826
DTEND;VALUE=DATE:20210830
DTSTAMP:20260425T140623
CREATED:20210529T031611Z
LAST-MODIFIED:20210623T161215Z
UID:10915-1629936000-1630281599@ca.org
SUMMARY:36 Annual CALA Palm Springs Convention Chair
DESCRIPTION:The 2021 Cocaine Anonymous Los Angeles Area’s 36th Annual Convention. Is held in Palm Springs California\, at the beautiful Doubletree Hilton Hotel & Golf Course. The purpose of this event is to raise money to continue carrying the message and keeping the doors open for CALA and donate to World. It’s a time to participate in unity\, service and recovery. Fellowship\, Fun\, some sun\, dancing and youth activities if you bring the family. Meetings\, Workshops\, Marathon Meetings\, Dances\, Golf Tournament\, Entertainment (Live music\, DJ & More)! Check out www.ca4la.org to register for this awesome fun event. \nhttp://www.ca4la.org \n562-965-3789 \nmauiginger@yahoo.com \nDouble Tree by Hilton Hotel Golf Resort\n67967 Vista Chino\nCathedral City\, CA 92234\nFor Reservations call:\n(800) 445-8667 or (760) 322-7000
URL:https://ca.org/event/36-annual-cala-palm-springs-convention-chair/
CATEGORIES:Area
END:VEVENT
END:VCALENDAR