BEGIN:VCALENDAR
VERSION:2.0
PRODID:-//Cocaine Anonymous® World Services - ECPv6.15.20//NONSGML v1.0//EN
CALSCALE:GREGORIAN
METHOD:PUBLISH
X-ORIGINAL-URL:https://ca.org
X-WR-CALDESC:Events for Cocaine Anonymous® World Services
REFRESH-INTERVAL;VALUE=DURATION:PT1H
X-Robots-Tag:noindex
X-PUBLISHED-TTL:PT1H
BEGIN:VTIMEZONE
TZID:America/Toronto
BEGIN:DAYLIGHT
TZOFFSETFROM:-0500
TZOFFSETTO:-0400
TZNAME:EDT
DTSTART:20200308T070000
END:DAYLIGHT
BEGIN:STANDARD
TZOFFSETFROM:-0400
TZOFFSETTO:-0500
TZNAME:EST
DTSTART:20201101T060000
END:STANDARD
BEGIN:DAYLIGHT
TZOFFSETFROM:-0500
TZOFFSETTO:-0400
TZNAME:EDT
DTSTART:20210314T070000
END:DAYLIGHT
BEGIN:STANDARD
TZOFFSETFROM:-0400
TZOFFSETTO:-0500
TZNAME:EST
DTSTART:20211107T060000
END:STANDARD
BEGIN:DAYLIGHT
TZOFFSETFROM:-0500
TZOFFSETTO:-0400
TZNAME:EDT
DTSTART:20220313T070000
END:DAYLIGHT
BEGIN:STANDARD
TZOFFSETFROM:-0400
TZOFFSETTO:-0500
TZNAME:EST
DTSTART:20221106T060000
END:STANDARD
END:VTIMEZONE
BEGIN:VEVENT
DTSTART;VALUE=DATE:20210416
DTEND;VALUE=DATE:20210419
DTSTAMP:20260425T195526
CREATED:20210311T152736Z
LAST-MODIFIED:20210317T201830Z
UID:10553-1618531200-1618790399@ca.org
SUMMARY:A New Freedom
DESCRIPTION:Visit: https://www.casouthcentral.uk/convention \n\n16th-18th APRIL 2021 \n\n\nFollowing the disappointment of cancelling our 2020 convention due to the Covid-19 virus we are now full of excitement and enthusiasm to plan a bigger and better event for our new date in April 2021! \nSave the date… you wont want to miss this one!​​ \nFollowing on from 2019’s massively successful convention we plan to bring you an even BIGGER and BETTER convention for 2021! \nA New Freedom will take place over three days in the beautiful Royal Bath Hotel in Bournemouth\, surrounded by sun and sand. \nThe weekend will be packed full of unity\, shares\, workshops\, fellowship\, entertainment and dancing. \nShares from around the world will be joining us to carry their message of Hope\, Faith & Courage. \nWeekend registration available now! £20 per person. \nHotel room prices from £90.00\nTo book your hotel room please call The Royal Bath Hotel on 01202 204 917 and use code: CAUK190320 to receive your discounted rate. \nIn Service \nLouise C
URL:https://ca.org/event/a-new-freedom/
CATEGORIES:Area
END:VEVENT
END:VCALENDAR